BEGIN:VCALENDAR
VERSION:2.0
PRODID:-//www.homewardonline.org//NONSGML kigkonsult.se iCalcreator 2.30.10
 //
CALSCALE:GREGORIAN
METHOD:PUBLISH
UID:2071c81a-1fb2-42db-b774-61f5a254b8fb
X-WR-CALDESC:Each day\, thousands of cats and dogs are separated from their
  owners. Sadly\, only 17% of dogs and 2% of cats are successfully reunited
  with their loving families. More than half of these animals are not weari
 ng collars or ID tags by the time they reach a shelter. To help increase t
 hese odds\, have your pet microchipped!\n\nThe microchip\, about the size 
 of a grain of rice\, is painlessly implanted between the shoulder blades o
 f your pet using a quick\, non-surgical process. The implanting procedure 
 is similar to that used for vaccination and does not require the use of an
 esthesia. Each microchip carries a unique number that is logged onto a nat
 ional database. When a scanner is passed over the microchip low frequency 
 radio waves created by the scanner activate the microchip\, allowing the u
 nique number to be read. If your pet finds its way to a vet\, animal hospi
 tal or animal shelter\, it will be scanned to see if a microchip is presen
 t. If your pet has been microchipped\, the odds that your story will have 
 a happy ending are significantly increased.\n\nAs a community service\, th
 e Homeward Animal Shelter offers microchip clinics several times a year fo
 r cats and dogs owned by members of the public. Cost is $20 per pet and no
  appointment is necessary. All clinics are held at the shelter. Please ens
 ure that your pets are either on leash or in a carrier while at the shelte
 r\, for the safety of your pet and others.
X-WR-RELCALID:6abc58d67902e89b35af68e37b26eab1
X-WR-TIMEZONE:America/Chicago
BEGIN:VTIMEZONE
TZID:America/Chicago
BEGIN:STANDARD
TZNAME:CST
DTSTART:20181104T020000
TZOFFSETFROM:-0500
TZOFFSETTO:-0600
RDATE:20191103T020000
RDATE:20201101T020000
END:STANDARD
BEGIN:DAYLIGHT
TZNAME:CDT
DTSTART:20190310T020000
TZOFFSETFROM:-0600
TZOFFSETTO:-0500
RDATE:20200308T020000
END:DAYLIGHT
END:VTIMEZONE
BEGIN:VEVENT
UID:903c5026-2503-4975-af97-db2115cedc87
DTSTAMP:20260423T062444Z
DESCRIPTION:Each day\, thousands of cats and dogs are separated from their 
 owners. Sadly\, only 17% of dogs and 2% of cats are successfully reunited 
 with their loving families. More than half of these animals are not wearin
 g collars or ID tags by the time they reach a shelter. To help increase th
 ese odds\, have your pet microchipped!\n\nThe microchip\, about the size o
 f a grain of rice\, is painlessly implanted between the shoulder blades of
  your pet using a quick\, non-surgical process. The implanting procedure i
 s similar to that used for vaccination and does not require the use of ane
 sthesia. Each microchip carries a unique number that is logged onto a nati
 onal database. When a scanner is passed over the microchip low frequency r
 adio waves created by the scanner activate the microchip\, allowing the un
 ique number to be read. If your pet finds its way to a vet\, animal hospit
 al or animal shelter\, it will be scanned to see if a microchip is present
 . If your pet has been microchipped\, the odds that your story will have a
  happy ending are significantly increased.\n\nAs a community service\, the
  Homeward Animal Shelter offers microchip clinics several times a year for
  cats and dogs owned by members of the public. Cost is $20 per pet and no 
 appointment is necessary. All clinics are held at the shelter. Please ensu
 re that your pets are either on leash or in a carrier while at the shelter
 \, for the safety of your pet and others.
DTSTART;TZID=America/Chicago:20190611T170000
DTEND;TZID=America/Chicago:20190611T190000
LOCATION:Microchip Clinic
SUMMARY:Microchip Clinic
END:VEVENT
END:VCALENDAR
