BEGIN:VCALENDAR
VERSION:2.0
PRODID:-//www.homewardonline.org//NONSGML kigkonsult.se iCalcreator 2.30.10
 //
CALSCALE:GREGORIAN
METHOD:PUBLISH
UID:5c4dac29-a294-4ee8-a258-b3c7afdd43b9
X-WR-CALDESC:We will be holding a microchip clinic at Natural Pet Center on
  Thursday\, October 13th\, from 4-7pm. The cost is $25 per pet.\n\nTo less
 en wait times\, we are requiring appointments for all interested parties. 
 Please show up 10 minutes prior to your appointment to fill out paperwork.
  \n\nWe will accept payment after the appointment (cash or card only).\n\n
 If you have any questions regarding appointments\, please email Heather at
  hclyde@homewardonline.org. Thank you!
X-WR-RELCALID:0518777b26d66ccb5ef94c483492cc39
X-WR-TIMEZONE:America/Chicago
BEGIN:VTIMEZONE
TZID:America/Chicago
BEGIN:STANDARD
TZNAME:CST
DTSTART:20211107T020000
TZOFFSETFROM:-0500
TZOFFSETTO:-0600
RDATE:20221106T020000
RDATE:20231105T020000
END:STANDARD
BEGIN:DAYLIGHT
TZNAME:CDT
DTSTART:20220313T020000
TZOFFSETFROM:-0600
TZOFFSETTO:-0500
RDATE:20230312T020000
RDATE:20240310T020000
END:DAYLIGHT
END:VTIMEZONE
BEGIN:VEVENT
UID:c8969d63-0397-4e06-a4c0-88b566d7ac2f
DTSTAMP:20260424T185344Z
DESCRIPTION:We will be holding a microchip clinic at Natural Pet Center on 
 Thursday\, October 13th\, from 4-7pm. The cost is $25 per pet.\n\nTo lesse
 n wait times\, we are requiring appointments for all interested parties. P
 lease show up 10 minutes prior to your appointment to fill out paperwork. 
 \n\nWe will accept payment after the appointment (cash or card only).\n\nI
 f you have any questions regarding appointments\, please email Heather at 
 hclyde@homewardonline.org. Thank you!
DTSTART;TZID=America/Chicago:20221013T160000
DTEND;TZID=America/Chicago:20221013T190000
LOCATION:3037 13th Ave S\, Fargo\, ND 58103 US
SUMMARY:Microchip Clinic
END:VEVENT
END:VCALENDAR
