BEGIN:VCALENDAR
VERSION:2.0
PRODID:-//www.homewardonline.org//NONSGML kigkonsult.se iCalcreator 2.30.10
 //
CALSCALE:GREGORIAN
METHOD:PUBLISH
UID:d680ad01-f997-4b7b-b0f9-bc689e86b5c0
X-WR-CALDESC:Join us for a delicious spaghetti dinner and raffle to spread 
 the importance of spaying and neutering your pets. \nAll proceeds from thi
 s event will benefit the Spay and Neuter Fund of Homeward Animal Shelter. 
 \n\n
X-WR-RELCALID:6d02fb30219ba9e80f7b0d38a857c232
X-WR-TIMEZONE:America/Chicago
BEGIN:VTIMEZONE
TZID:America/Chicago
BEGIN:STANDARD
TZNAME:CST
DTSTART:20221106T020000
TZOFFSETFROM:-0500
TZOFFSETTO:-0600
RDATE:20231105T020000
END:STANDARD
BEGIN:DAYLIGHT
TZNAME:CDT
DTSTART:20230312T020000
TZOFFSETFROM:-0600
TZOFFSETTO:-0500
RDATE:20240310T020000
END:DAYLIGHT
END:VTIMEZONE
BEGIN:VEVENT
UID:0e25283b-c460-484e-b9d8-81feb65627e2
DTSTAMP:20260423T064014Z
DESCRIPTION:Join us for a delicious spaghetti dinner and raffle to spread t
 he importance of spaying and neutering your pets. \nAll proceeds from this
  event will benefit the Spay and Neuter Fund of Homeward Animal Shelter. 
 \n\n
DTSTART;TZID=America/Chicago:20230427T170000
DTEND;TZID=America/Chicago:20230427T200000
LOCATION:El Zagal Shrine | 1429 3rd St North Fargo
SUMMARY:8th Annual Spay-ghetti & No Balls Dinner
END:VEVENT
END:VCALENDAR
