BEGIN:VCALENDAR
VERSION:2.0
PRODID:-//www.homewardonline.org//NONSGML kigkonsult.se iCalcreator 2.30.10
 //
CALSCALE:GREGORIAN
METHOD:PUBLISH
UID:e3757bde-d8c5-49db-8c0a-0fd1cb4153a6
X-WR-CALDESC:Join us for our microchip clinic at Natural Pet Center\, locat
 ed at 3037 13th Ave S in Fargo.\n\nCost is $25/pet and an appointment is p
 referred. \n\nTo make an appointment\, please go to: https://squareup.com/
 appointments/book/gf9ckn6mh0g3m6/L9YBMB1KT5HBH/start
X-WR-RELCALID:c88b18777df62efe296270b114486d1e
X-WR-TIMEZONE:America/Chicago
BEGIN:VTIMEZONE
TZID:America/Chicago
BEGIN:STANDARD
TZNAME:CST
DTSTART:20221106T020000
TZOFFSETFROM:-0500
TZOFFSETTO:-0600
RDATE:20231105T020000
RDATE:20241103T020000
END:STANDARD
BEGIN:DAYLIGHT
TZNAME:CDT
DTSTART:20230312T020000
TZOFFSETFROM:-0600
TZOFFSETTO:-0500
RDATE:20240310T020000
END:DAYLIGHT
END:VTIMEZONE
BEGIN:VEVENT
UID:a84adfd8-6ce4-4e27-b75c-c51bc6205a53
DTSTAMP:20260423T101909Z
DESCRIPTION:Join us for our microchip clinic at Natural Pet Center\, locate
 d at 3037 13th Ave S in Fargo.\n\nCost is $25/pet and an appointment is pr
 eferred. \n\nTo make an appointment\, please go to: https://squareup.com/a
 ppointments/book/gf9ckn6mh0g3m6/L9YBMB1KT5HBH/start
DTSTART;TZID=America/Chicago:20230601T160000
DTEND;TZID=America/Chicago:20230601T183000
LOCATION:3037 13th Ave S\, Fargo\, ND 58103 US
SUMMARY:Microchip Clinic
END:VEVENT
END:VCALENDAR
