BEGIN:VCALENDAR
VERSION:2.0
PRODID:-//www.homewardonline.org//NONSGML kigkonsult.se iCalcreator 2.30.10
 //
CALSCALE:GREGORIAN
METHOD:PUBLISH
UID:971099e7-7d74-4d6f-861c-62d8f22d92f7
X-WR-CALDESC:Join us for the 33rd Annual PAWS WALK! Stay tuned for more det
 ails to come!
X-WR-RELCALID:bb9929f936c612bfe8098ae618d35e19
X-WR-TIMEZONE:America/Chicago
BEGIN:VTIMEZONE
TZID:America/Chicago
BEGIN:STANDARD
TZNAME:CST
DTSTART:20221106T020000
TZOFFSETFROM:-0500
TZOFFSETTO:-0600
RDATE:20231105T020000
RDATE:20241103T020000
END:STANDARD
BEGIN:DAYLIGHT
TZNAME:CDT
DTSTART:20230312T020000
TZOFFSETFROM:-0600
TZOFFSETTO:-0500
RDATE:20240310T020000
END:DAYLIGHT
END:VTIMEZONE
BEGIN:VEVENT
UID:6d8653a7-dbbf-48ea-b7ee-bf7cb2c41ef7
DTSTAMP:20260423T121141Z
DESCRIPTION:Join us for the 33rd Annual PAWS WALK! Stay tuned for more deta
 ils to come!
DTSTART;TZID=America/Chicago:20230718T180000
DTEND;TZID=America/Chicago:20230718T210000
LOCATION:Rheault Farm
SUMMARY:PAWS WALK
END:VEVENT
END:VCALENDAR
