BEGIN:VCALENDAR
VERSION:2.0
PRODID:-//www.homewardonline.org//NONSGML kigkonsult.se iCalcreator 2.30.10
 //
CALSCALE:GREGORIAN
METHOD:PUBLISH
UID:0817fbde-fb23-4456-9fcd-4bba2a6e5aa1
X-WR-CALDESC:[ Monetary donations and in-kind gifts are greatly appreciated
 . ]
X-WR-RELCALID:a8bab29fd18502bf6ec89ad5b6594382
X-WR-TIMEZONE:America/Chicago
BEGIN:VTIMEZONE
TZID:America/Chicago
BEGIN:STANDARD
TZNAME:CST
DTSTART:20221106T020000
TZOFFSETFROM:-0500
TZOFFSETTO:-0600
RDATE:20231105T020000
RDATE:20241103T020000
END:STANDARD
BEGIN:DAYLIGHT
TZNAME:CDT
DTSTART:20230312T020000
TZOFFSETFROM:-0600
TZOFFSETTO:-0500
RDATE:20240310T020000
END:DAYLIGHT
END:VTIMEZONE
BEGIN:VEVENT
UID:31454dc3-54da-47b6-884c-ffaf7c7b0f13
DTSTAMP:20260423T142519Z
DESCRIPTION:[ Monetary donations and in-kind gifts are greatly appreciated.
  ]
DTSTART;TZID=America/Chicago:20230801T110000
DTEND;TZID=America/Chicago:20230801T130000
LOCATION:Capital Credit Union - 3216 Veterans Blvd Fargo
SUMMARY:Grill For Paws BBQ Lunch Fundraiser hosted by Capital Credit Union
END:VEVENT
END:VCALENDAR
