BEGIN:VCALENDAR
VERSION:2.0
PRODID:-//www.homewardonline.org//NONSGML kigkonsult.se iCalcreator 2.30.10
 //
CALSCALE:GREGORIAN
METHOD:PUBLISH
UID:740ce019-adf4-411f-98d0-0c84665aee66
X-WR-CALDESC:Pups on the Patio\n4-9 PM | TONIGHT – Tuesday\, Aug. 29th\nCRA
 VE Fargo – located in West Acres Mall\n\nBring your pup out for some patio
  time while you enjoy delicious food and drinks from CRAVE American Kitche
 n & Sushi Bar - Fargo! A percentage of today’s total sales will be donated
  to the shelter pets of Homeward. Enjoy a beautiful evening on the patio w
 hile you support shelter pets in need.
X-WR-RELCALID:2e0f07ced773dd61eb3209ab7cf8b3ce
X-WR-TIMEZONE:America/Chicago
BEGIN:VTIMEZONE
TZID:America/Chicago
BEGIN:STANDARD
TZNAME:CST
DTSTART:20221106T020000
TZOFFSETFROM:-0500
TZOFFSETTO:-0600
RDATE:20231105T020000
RDATE:20241103T020000
END:STANDARD
BEGIN:DAYLIGHT
TZNAME:CDT
DTSTART:20230312T020000
TZOFFSETFROM:-0600
TZOFFSETTO:-0500
RDATE:20240310T020000
END:DAYLIGHT
END:VTIMEZONE
BEGIN:VEVENT
UID:0f871bad-181e-4a6f-acc9-502ecab84b09
DTSTAMP:20260423T142023Z
DESCRIPTION:Pups on the Patio\n4-9 PM | TONIGHT – Tuesday\, Aug. 29th\nCRAV
 E Fargo – located in West Acres Mall\n\nBring your pup out for some patio 
 time while you enjoy delicious food and drinks from CRAVE American Kitchen
  & Sushi Bar - Fargo! A percentage of today’s total sales will be donated 
 to the shelter pets of Homeward. Enjoy a beautiful evening on the patio wh
 ile you support shelter pets in need.
DTSTART;TZID=America/Chicago:20230829T160000
DTEND;TZID=America/Chicago:20230829T210000
LOCATION:CRAVE Fargo - located in West Acres Mall
SUMMARY:CRAVE Fargo - Pups on the Patio
END:VEVENT
END:VCALENDAR
