BEGIN:VCALENDAR
VERSION:2.0
PRODID:-//www.homewardonline.org//NONSGML kigkonsult.se iCalcreator 2.30.10
 //
CALSCALE:GREGORIAN
METHOD:PUBLISH
UID:ba073c0b-b13b-4843-8d45-fe37d75ee205
X-WR-CALDESC:We are excited to partner with Brady Martz for an adoption eve
 nt from 4-7 p.m. on Thursday\, Aug. 29th! Stop by the shelter and meet som
 e adorable cats and dogs we have available for adoption. There will be ice
  cream treats and a giveaway for anyone who brings items off our wishlist!
  ------> https://www.homewardonline.org/how-to-help/wish-list-donations.ht
 ml
X-WR-RELCALID:b7b83ca48cf5dc8c068b6b9027404086
X-WR-TIMEZONE:America/Chicago
BEGIN:VTIMEZONE
TZID:America/Chicago
BEGIN:STANDARD
TZNAME:CST
DTSTART:20221106T020000
TZOFFSETFROM:-0500
TZOFFSETTO:-0600
RDATE:20231105T020000
RDATE:20241103T020000
END:STANDARD
BEGIN:DAYLIGHT
TZNAME:CDT
DTSTART:20230312T020000
TZOFFSETFROM:-0600
TZOFFSETTO:-0500
RDATE:20240310T020000
END:DAYLIGHT
END:VTIMEZONE
BEGIN:VEVENT
UID:2e7033e6-94a4-44c1-90c3-a247043e837e
DTSTAMP:20260423T142007Z
DESCRIPTION:We are excited to partner with Brady Martz for an adoption even
 t from 4-7 p.m. on Thursday\, Aug. 29th! Stop by the shelter and meet some
  adorable cats and dogs we have available for adoption. There will be ice 
 cream treats and a giveaway for anyone who brings items off our wishlist! 
 ------> https://www.homewardonline.org/how-to-help/wish-list-donations.htm
 l
DTSTART;TZID=America/Chicago:20230831T160000
DTEND;TZID=America/Chicago:20230831T190000
LOCATION:Homeward Animal Shelter
SUMMARY:Ice Cream Social & Meet-N-Greet Fundraiser hosted by Brady Martz
END:VEVENT
END:VCALENDAR
