BEGIN:VCALENDAR
VERSION:2.0
PRODID:-//www.homewardonline.org//NONSGML kigkonsult.se iCalcreator 2.30.10
 //
CALSCALE:GREGORIAN
METHOD:PUBLISH
UID:622eadeb-80a1-441f-8c8d-36229aac9df8
X-WR-CALDESC:We’re excited to partner with our friends at the Fargo Theatre
  for another CatVideoFest on Saturday\, Sept. 23rd! Showings will be at 2 
 p.m. and 7 p.m. and a portion of the ticket proceeds will be donated to th
 e shelter pets here at Homeward. Come out for the laughs & fun\, meet adop
 table kitties before each viewing\, and show your support for shelter pets
  in need. Audiences of all ages are welcome. \n\nThe international CatVide
 oFest is a compilation reel of the latest and best cat videos culled from 
 countless hours of unique submissions and sourced animations\, music video
 s\, and classic internet powerhouses.
X-WR-RELCALID:4e5a7b1a4af9fea51d7a54866e2e6167
X-WR-TIMEZONE:America/Chicago
BEGIN:VTIMEZONE
TZID:America/Chicago
BEGIN:STANDARD
TZNAME:CST
DTSTART:20221106T020000
TZOFFSETFROM:-0500
TZOFFSETTO:-0600
RDATE:20231105T020000
RDATE:20241103T020000
END:STANDARD
BEGIN:DAYLIGHT
TZNAME:CDT
DTSTART:20230312T020000
TZOFFSETFROM:-0600
TZOFFSETTO:-0500
RDATE:20240310T020000
RDATE:20250309T020000
END:DAYLIGHT
END:VTIMEZONE
BEGIN:VEVENT
UID:afc13702-99c0-4e9f-9629-885d1a85e520
DTSTAMP:20260423T163401Z
DESCRIPTION:We’re excited to partner with our friends at the Fargo Theatre 
 for another CatVideoFest on Saturday\, Sept. 23rd! Showings will be at 2 p
 .m. and 7 p.m. and a portion of the ticket proceeds will be donated to the
  shelter pets here at Homeward. Come out for the laughs & fun\, meet adopt
 able kitties before each viewing\, and show your support for shelter pets 
 in need. Audiences of all ages are welcome. \n\nThe international CatVideo
 Fest is a compilation reel of the latest and best cat videos culled from c
 ountless hours of unique submissions and sourced animations\, music videos
 \, and classic internet powerhouses.
DTSTART;TZID=America/Chicago:20230923T140000
DTEND;TZID=America/Chicago:20230923T200000
LOCATION:The Fargo Theatre
SUMMARY:Cat Video Fest
END:VEVENT
END:VCALENDAR
