BEGIN:VCALENDAR
VERSION:2.0
PRODID:-//www.homewardonline.org//NONSGML kigkonsult.se iCalcreator 2.30.10
 //
CALSCALE:GREGORIAN
METHOD:PUBLISH
UID:810c8a89-11b9-4d6e-ac47-c3324d890578
X-WR-CALDESC:We will be offering a microchip clinic\, hosted by Natural Pet
  Center\, on Thursday\, October 5th from 4-6:30pm. The cost is $25 per pet
 .\n\nTo schedule an appointment for your pet\, please sign up at: https://
 squareup.com/appointments/book/gf9ckn6mh0g3m6/L9YBMB1KT5HBH/services\nWalk
 -in appointments will be accepted as scheduling allows\, and wait times wi
 ll vary. For the shortest waiting time\, please schedule an appointment.\n
 \nWhen attending our microchip clinic\, please ensure your pet is in a car
 rier or on a leash for their safety. Thank you!
X-WR-RELCALID:e7c913d52430de7d9a67437b4da78671
X-WR-TIMEZONE:America/Chicago
BEGIN:VTIMEZONE
TZID:America/Chicago
BEGIN:STANDARD
TZNAME:CST
DTSTART:20221106T020000
TZOFFSETFROM:-0500
TZOFFSETTO:-0600
RDATE:20231105T020000
RDATE:20241103T020000
END:STANDARD
BEGIN:DAYLIGHT
TZNAME:CDT
DTSTART:20230312T020000
TZOFFSETFROM:-0600
TZOFFSETTO:-0500
RDATE:20240310T020000
RDATE:20250309T020000
END:DAYLIGHT
END:VTIMEZONE
BEGIN:VEVENT
UID:19433980-30fa-4f97-87d1-529577afb4ba
DTSTAMP:20260423T152257Z
DESCRIPTION:We will be offering a microchip clinic\, hosted by Natural Pet 
 Center\, on Thursday\, October 5th from 4-6:30pm. The cost is $25 per pet.
 \n\nTo schedule an appointment for your pet\, please sign up at: https://s
 quareup.com/appointments/book/gf9ckn6mh0g3m6/L9YBMB1KT5HBH/services\nWalk-
 in appointments will be accepted as scheduling allows\, and wait times wil
 l vary. For the shortest waiting time\, please schedule an appointment.\n
 \nWhen attending our microchip clinic\, please ensure your pet is in a car
 rier or on a leash for their safety. Thank you!
DTSTART;TZID=America/Chicago:20231005T160000
DTEND;TZID=America/Chicago:20231005T183000
LOCATION:Natural Pet Center located at 3037 13th Ave S in Fargo\, ND
SUMMARY:Microchip Clinic
END:VEVENT
END:VCALENDAR
