BEGIN:VCALENDAR
VERSION:2.0
PRODID:-//www.homewardonline.org//NONSGML kigkonsult.se iCalcreator 2.30.10
 //
CALSCALE:GREGORIAN
METHOD:PUBLISH
UID:07bf4577-3bd0-4845-bdb5-97a600e28a51
X-WR-CALDESC:Stay tuned for more details to come!
X-WR-RELCALID:b6665a568231d5d2e3a1a838cd9fdcb3
X-WR-TIMEZONE:America/Chicago
BEGIN:VTIMEZONE
TZID:America/Chicago
BEGIN:STANDARD
TZNAME:CST
DTSTART:20221106T020000
TZOFFSETFROM:-0500
TZOFFSETTO:-0600
RDATE:20231105T020000
RDATE:20241103T020000
END:STANDARD
BEGIN:DAYLIGHT
TZNAME:CDT
DTSTART:20230312T020000
TZOFFSETFROM:-0600
TZOFFSETTO:-0500
RDATE:20240310T020000
RDATE:20250309T020000
END:DAYLIGHT
END:VTIMEZONE
BEGIN:VEVENT
UID:7feae9f1-9e73-4757-8660-e259f6bb59f7
DTSTAMP:20260423T181553Z
DESCRIPTION:Stay tuned for more details to come!
DTSTART;TZID=America/Chicago:20231027T180000
DTEND;TZID=America/Chicago:20231027T210000
LOCATION:Hilton Garden Inn Fargo
SUMMARY:Wags\, Whiskers & Wine
END:VEVENT
END:VCALENDAR
