BEGIN:VCALENDAR
VERSION:2.0
PRODID:-//www.homewardonline.org//NONSGML kigkonsult.se iCalcreator 2.30.10
 //
CALSCALE:GREGORIAN
METHOD:PUBLISH
UID:755643ea-f79b-425e-ac7d-ad4ba727e798
X-WR-CALDESC:Giving Hearts Day Open House | 11:00 AM - 7:00 PM | Homeward A
 nimal Shelter\n\nJoin us on Giving Hearts Day at Homeward Animal Shelter! 
 Our doors will be open to the public from 11:00 AM to 7:00 PM. Sip on deli
 cious hot chocolate as you explore our shelter\, and don't miss the opport
 unity to meet the adorable dogs and cats eagerly awaiting their forever ho
 mes. \n\nThree Dog Bakery | 10:00 AM - 7:00 PM\n\n - Bake Sale - Special b
 akery treats with 100% of proceeds going to Homeward!\n - Heart Cake Aucti
 on\n - Dog Art Sale - Purchase paintings done by the Homeward dogs! \n - A
 doptable dogs in store! We will have a schedule of dogs closer to the even
 t.
X-WR-RELCALID:cf76ac2332eb774cd89c3efb83fa2f73
X-WR-TIMEZONE:America/Chicago
BEGIN:VTIMEZONE
TZID:America/Chicago
BEGIN:STANDARD
TZNAME:CST
DTSTART:20231105T020000
TZOFFSETFROM:-0500
TZOFFSETTO:-0600
RDATE:20241103T020000
END:STANDARD
BEGIN:DAYLIGHT
TZNAME:CDT
DTSTART:20230312T020000
TZOFFSETFROM:-0600
TZOFFSETTO:-0500
RDATE:20240310T020000
RDATE:20250309T020000
END:DAYLIGHT
END:VTIMEZONE
BEGIN:VEVENT
UID:e640e4ef-f935-4a9f-aac4-810534a3e2d7
DTSTAMP:20260424T022131Z
DESCRIPTION:Giving Hearts Day Open House | 11:00 AM - 7:00 PM | Homeward An
 imal Shelter\n\nJoin us on Giving Hearts Day at Homeward Animal Shelter! O
 ur doors will be open to the public from 11:00 AM to 7:00 PM. Sip on delic
 ious hot chocolate as you explore our shelter\, and don't miss the opportu
 nity to meet the adorable dogs and cats eagerly awaiting their forever hom
 es. \n\nThree Dog Bakery | 10:00 AM - 7:00 PM\n\n - Bake Sale - Special ba
 kery treats with 100% of proceeds going to Homeward!\n - Heart Cake Auctio
 n\n - Dog Art Sale - Purchase paintings done by the Homeward dogs! \n - Ad
 optable dogs in store! We will have a schedule of dogs closer to the event
 .
DTSTART;TZID=America/Chicago:20240208T000000
DTEND;TZID=America/Chicago:20240208T235900
LOCATION:
SUMMARY:Giving Hearts Day
END:VEVENT
END:VCALENDAR
