BEGIN:VCALENDAR
VERSION:2.0
PRODID:-//www.homewardonline.org//NONSGML kigkonsult.se iCalcreator 2.30.10
 //
CALSCALE:GREGORIAN
METHOD:PUBLISH
UID:8cecf5b0-07da-44d4-8e62-0f493e32f85e
X-WR-CALDESC:Support the Spay and Neuter Fund of Homeward Animal Shelter by
  attending the 9th Annual Spay-ghetti & No Balls Dinner! Join us on April 
 18th for a delicious spaghetti dinner\, live music by King Sage\, an aucti
 on\, and more!\n\nThursday\, April 18 | 5:00 - 8:00 (or until food runs ou
 t)\nEl Zagal Shrine\n$10 Suggested Donation\n\nCan't make it to the event 
 but still want to help? Click here to donate to our Spay & Neuter Fund: ht
 tp://weblink.donorperfect.com/spayneuter_appeal2024.
X-WR-RELCALID:5571f16e3cbafcc3f1cff7a4ed5ac727
X-WR-TIMEZONE:America/Chicago
BEGIN:VTIMEZONE
TZID:America/Chicago
BEGIN:STANDARD
TZNAME:CST
DTSTART:20231105T020000
TZOFFSETFROM:-0500
TZOFFSETTO:-0600
RDATE:20241103T020000
END:STANDARD
BEGIN:DAYLIGHT
TZNAME:CDT
DTSTART:20240310T020000
TZOFFSETFROM:-0600
TZOFFSETTO:-0500
RDATE:20250309T020000
END:DAYLIGHT
END:VTIMEZONE
BEGIN:VEVENT
UID:81d66c56-baba-450b-8f5e-bdbbb3c00a19
DTSTAMP:20260424T063435Z
DESCRIPTION:Support the Spay and Neuter Fund of Homeward Animal Shelter by 
 attending the 9th Annual Spay-ghetti & No Balls Dinner! Join us on April 1
 8th for a delicious spaghetti dinner\, live music by King Sage\, an auctio
 n\, and more!\n\nThursday\, April 18 | 5:00 - 8:00 (or until food runs out
 )\nEl Zagal Shrine\n$10 Suggested Donation\n\nCan't make it to the event b
 ut still want to help? Click here to donate to our Spay & Neuter Fund: htt
 p://weblink.donorperfect.com/spayneuter_appeal2024.
DTSTART;TZID=America/Chicago:20240418T170000
DTEND;TZID=America/Chicago:20240418T200000
LOCATION:1429 3rd St N\, Fargo\, ND 58102 US
SUMMARY:Spay-ghetti & No Balls Dinner
END:VEVENT
END:VCALENDAR
