BEGIN:VCALENDAR
VERSION:2.0
PRODID:-//www.homewardonline.org//NONSGML kigkonsult.se iCalcreator 2.30.10
 //
CALSCALE:GREGORIAN
METHOD:PUBLISH
UID:ed0fecaa-f1f3-4176-a131-6d85bd300cfd
X-WR-CALDESC:We will be offering a microchip clinic\, hosted by Natural Pet
  Center\, on Thursday\, May 30th from 4-6:30pm. The cost is $25 per pet.\n
 \nWalk-in appointments will be accepted as scheduling allows\, and wait ti
 mes will vary. For the shortest waiting time\, please schedule an appointm
 ent.\n\nWhen attending our microchip clinic\, please ensure your pet is in
  a carrier or on a leash for their safety.
X-WR-RELCALID:0c22d5e965c5c0e22e059e6ef4ecd28a
X-WR-TIMEZONE:America/Chicago
BEGIN:VTIMEZONE
TZID:America/Chicago
BEGIN:STANDARD
TZNAME:CST
DTSTART:20231105T020000
TZOFFSETFROM:-0500
TZOFFSETTO:-0600
RDATE:20241103T020000
RDATE:20251102T020000
END:STANDARD
BEGIN:DAYLIGHT
TZNAME:CDT
DTSTART:20240310T020000
TZOFFSETFROM:-0600
TZOFFSETTO:-0500
RDATE:20250309T020000
END:DAYLIGHT
END:VTIMEZONE
BEGIN:VEVENT
UID:6cb62a78-5386-45f8-aa0e-8fa1e5b6c81f
DTSTAMP:20260424T090041Z
DESCRIPTION:We will be offering a microchip clinic\, hosted by Natural Pet 
 Center\, on Thursday\, May 30th from 4-6:30pm. The cost is $25 per pet.\n
 \nWalk-in appointments will be accepted as scheduling allows\, and wait ti
 mes will vary. For the shortest waiting time\, please schedule an appointm
 ent.\n\nWhen attending our microchip clinic\, please ensure your pet is in
  a carrier or on a leash for their safety.
DTSTART;TZID=America/Chicago:20240530T160000
DTEND;TZID=America/Chicago:20240530T183000
LOCATION:3037 13th Ave S\, Fargo\, ND 58103 US
SUMMARY:Microchip Clinic
END:VEVENT
END:VCALENDAR
